BEGIN:VCALENDAR
VERSION:2.0
PRODID:-//eventon.com NONSGML v1.0//EN
CALSCALE:GREGORIAN
METHOD:PUBLISH
BEGIN:VEVENT
UID:69e606b2b26bd
DTSTAMP:20260420T105754Z
DTSTART:20241026
DTEND:20241027
LOCATION:
SUMMARY:Grünkohlregatta
DESCRIPTION:Grünkohlregatta\nhttps://sg-zeuthen.de/events-directory/gruenk
 ohlregatta/
URL:https://sg-zeuthen.de/events-directory/gruenkohlregatta/
END:VEVENT
END:VCALENDAR