BEGIN:VCALENDAR
VERSION:2.0
PRODID:-//eventon.com NONSGML v1.0//EN
CALSCALE:GREGORIAN
METHOD:PUBLISH
BEGIN:VEVENT
UID:69e9f223af88f
DTSTAMP:20260423T101915Z
DTSTART:20250412T080000Z
DTEND:20250412T215000Z
LOCATION:
SUMMARY:Ansegeln
DESCRIPTION:Ansegeln\nhttps://sg-zeuthen.de/events-directory/ansegeln-3/
URL:https://sg-zeuthen.de/events-directory/ansegeln-3/
END:VEVENT
END:VCALENDAR