BEGIN:VCALENDAR
VERSION:2.0
PRODID:-//eventon.com NONSGML v1.0//EN
CALSCALE:GREGORIAN
METHOD:PUBLISH
BEGIN:VEVENT
UID:69e9ec75e0bce
DTSTAMP:20260423T095501Z
DTSTART:20251011T100000Z
DTEND:20251011T215000Z
LOCATION:
SUMMARY:Absegeln
DESCRIPTION:Absegeln\nhttps://sg-zeuthen.de/events-directory/absegeln-2/
URL:https://sg-zeuthen.de/events-directory/absegeln-2/
END:VEVENT
END:VCALENDAR