BEGIN:VCALENDAR
VERSION:2.0
PRODID:-//eventon.com NONSGML v1.0//EN
CALSCALE:GREGORIAN
METHOD:PUBLISH
BEGIN:VEVENT
UID:69e8531f3f367
DTSTAMP:20260422T044831Z
DTSTART:20230507
DTEND:20230508
LOCATION:
SUMMARY:Krümel-Regatta (Opti-Anfänger)
DESCRIPTION:Krümel-Regatta (Opti-Anfänger)\nhttps://sg-zeuthen.de/events-
 directory/kruemel-regatta-opti-anfaenger/
URL:https://sg-zeuthen.de/events-directory/kruemel-regatta-opti-anfaenger/
END:VEVENT
END:VCALENDAR