BEGIN:VCALENDAR
VERSION:2.0
PRODID:-//eventon.com NONSGML v1.0//EN
CALSCALE:GREGORIAN
METHOD:PUBLISH
BEGIN:VEVENT
UID:69e74a94aed98
DTSTAMP:20260421T095948Z
DTSTART:20230513
DTEND:20230514
LOCATION:
SUMMARY:Opti-Cup (Opti B)
DESCRIPTION:Opti-Cup (Opti B)\nhttps://sg-zeuthen.de/events-directory/opti-
 cup-opti-b/
URL:https://sg-zeuthen.de/events-directory/opti-cup-opti-b/
END:VEVENT
END:VCALENDAR