BEGIN:VCALENDAR
VERSION:2.0
PRODID:-//eventon.com NONSGML v1.0//EN
CALSCALE:GREGORIAN
METHOD:PUBLISH
BEGIN:VEVENT
UID:69e72a5aed5c9
DTSTAMP:20260421T074218Z
DTSTART:20240420T100000Z
DTEND:20240420T215000Z
LOCATION:
SUMMARY:Ansegeln
DESCRIPTION:Ansegeln\nhttps://sg-zeuthen.de/events-directory/ansegeln-2/
URL:https://sg-zeuthen.de/events-directory/ansegeln-2/
END:VEVENT
END:VCALENDAR