BEGIN:VCALENDAR
VERSION:2.0
PRODID:-//eventon.com NONSGML v1.0//EN
CALSCALE:GREGORIAN
METHOD:PUBLISH
BEGIN:VEVENT
UID:69e74aef52b59
DTSTAMP:20260421T100119Z
DTSTART:20240427
DTEND:20240428
LOCATION:
SUMMARY:Frühjahrsregatta
DESCRIPTION:Frühjahrsregatta\nhttps://sg-zeuthen.de/events-directory/frueh
 jahrsregatta-2/
URL:https://sg-zeuthen.de/events-directory/fruehjahrsregatta-2/
END:VEVENT
END:VCALENDAR