BEGIN:VCALENDAR
VERSION:2.0
PRODID:-//eventon.com NONSGML v1.0//EN
CALSCALE:GREGORIAN
METHOD:PUBLISH
BEGIN:VEVENT
UID:69ecce2a29017
DTSTAMP:20260425T142234Z
DTSTART:20240526T103000Z
DTEND:20240526T153000Z
LOCATION:
SUMMARY:Kleine Geschwaderfahrt der SG Zeuthen
DESCRIPTION:Kleine Geschwaderfahrt der SG Zeuthen\nhttps://sg-zeuthen.de/ev
 ents-directory/kleine-geschwaderfahrt-der-sg-zeuthen/
URL:https://sg-zeuthen.de/events-directory/kleine-geschwaderfahrt-der-sg-zeuthen/
END:VEVENT
END:VCALENDAR