BEGIN:VCALENDAR
VERSION:2.0
PRODID:-//eventon.com NONSGML v1.0//EN
CALSCALE:GREGORIAN
METHOD:PUBLISH
BEGIN:VEVENT
UID:69e749b15d72f
DTSTAMP:20260421T095601Z
DTSTART:20241005
DTEND:20241006
LOCATION:
SUMMARY:Herbstrevierwettfahrt
DESCRIPTION:Herbstrevierwettfahrt\nhttps://sg-zeuthen.de/events-directory/h
 erbstrevierwettfahrt-2/
URL:https://sg-zeuthen.de/events-directory/herbstrevierwettfahrt-2/
END:VEVENT
END:VCALENDAR